BEGIN:VCALENDAR
VERSION:2.0
PRODID:-//SAFECode - ECPv6.6.4.2//NONSGML v1.0//EN
CALSCALE:GREGORIAN
METHOD:PUBLISH
X-ORIGINAL-URL:https://safecode.org
X-WR-CALDESC:Events for SAFECode
REFRESH-INTERVAL;VALUE=DURATION:PT1H
X-Robots-Tag:noindex
X-PUBLISHED-TTL:PT1H
BEGIN:VTIMEZONE
TZID:UTC
BEGIN:STANDARD
TZOFFSETFROM:+0000
TZOFFSETTO:+0000
TZNAME:UTC
DTSTART:20220101T000000
END:STANDARD
TZID:America/New_York
BEGIN:DAYLIGHT
TZOFFSETFROM:-0500
TZOFFSETTO:-0400
TZNAME:EDT
DTSTART:20220313T070000
END:DAYLIGHT
BEGIN:STANDARD
TZOFFSETFROM:-0400
TZOFFSETTO:-0500
TZNAME:EST
DTSTART:20221106T060000
END:STANDARD
END:VTIMEZONE
BEGIN:VEVENT
DTSTART;TZID=UTC:20220606T070000
DTEND;TZID=UTC:20220609T160000
DTSTAMP:20260424T045747
CREATED:20220415T131733Z
LAST-MODIFIED:20220506T142330Z
UID:4125-1654498800-1654790400@safecode.org
SUMMARY:RSA Conference 2022
DESCRIPTION:Discover everything that cybersecurity has to offer with our comprehensive agenda. Explore hundreds of sessions covering a wide range of topics\, cutting-edge innovation\, and hands-on learning. Register by May 6 to save up to $700* and join your peers for an action-packed four days.\nSteve Lipner\, Executive Director of SAFECode\, will be taking part in the session\, “Is a Secure Software Supply Chain Even Possible\, Let Alone Feasible?” on 6 June\, 2:20 – 3:10 PM PT. \n\nJanet Jones\, Judith Furlong\, and Souheil Moghnie of SAFECode will be participating in the session\, “Time is Running Out: Post Quantum Cryptography Call to Action” with Dr. Dustin Moody of NIST on 8 June\, 2:25 – 3:15 PM PT. \nLearn more here
URL:https://safecode.org/event/rsa-conference-2022/
LOCATION:Moscone Center\, 747 Howard St\, San Francisco\, CA\, 94103\, United States
END:VEVENT
BEGIN:VEVENT
DTSTART;TZID=America/New_York:20221004T080000
DTEND;TZID=America/New_York:20221004T170000
DTSTAMP:20260424T045747
CREATED:20220922T213800Z
LAST-MODIFIED:20220922T213817Z
UID:4161-1664870400-1664902800@safecode.org
SUMMARY:CISA’s 5th Annual National Cybersecurity Summit
DESCRIPTION:Registration is open for CISA’s 5th Annual National Cybersecurity Summit. \nCybersecurity Awareness Month is almost upon us! Help us kick off this year’s national observance by joining us in Atlanta on Tuesday\, Oct. 4\, 2022\, for CISA’s 5th Annual National Cybersecurity Summit. For the first time since 2019\, this year’s event will be live and in person at Morehouse College’s Ray Charles Performing Arts. \nHeld in partnership with the Atlanta University Center Consortium (AUCC)\, the #CISACyberSummit brings together cybersecurity and critical infrastructure stakeholders from around the world and provides a forum for meaningful conversations and collaboration about how we can protect our physical and cyber infrastructure. \nTo register for the event\, visit 5th Annual National Cybersecurity Summit Tickets\, Tue\, Oct 4\, 2022 at 8:00 AM | Eventbrite. \nCan’t attend in person? The event is also available virtually. Details on how to follow along virtually will be published on CISA’s website at a later date.
URL:https://safecode.org/event/cisas-5th-annual-national-cybersecurity-summit/
LOCATION:Ray Charles Performing Arts Center\, 900 West End Avenue Southwest\, Atlanta\, GA\, United States
END:VEVENT
END:VCALENDAR